BEGIN:VCALENDAR
VERSION:2.0
PRODID:-//Center for Economic Growth - ECPv6.15.18//NONSGML v1.0//EN
CALSCALE:GREGORIAN
METHOD:PUBLISH
X-ORIGINAL-URL:https://www.ceg.org
X-WR-CALDESC:Events for Center for Economic Growth
REFRESH-INTERVAL;VALUE=DURATION:PT1H
X-Robots-Tag:noindex
X-PUBLISHED-TTL:PT1H
BEGIN:VTIMEZONE
TZID:America/New_York
BEGIN:DAYLIGHT
TZOFFSETFROM:-0500
TZOFFSETTO:-0400
TZNAME:EDT
DTSTART:20250309T070000
END:DAYLIGHT
BEGIN:STANDARD
TZOFFSETFROM:-0400
TZOFFSETTO:-0500
TZNAME:EST
DTSTART:20251102T060000
END:STANDARD
BEGIN:DAYLIGHT
TZOFFSETFROM:-0500
TZOFFSETTO:-0400
TZNAME:EDT
DTSTART:20260308T070000
END:DAYLIGHT
BEGIN:STANDARD
TZOFFSETFROM:-0400
TZOFFSETTO:-0500
TZNAME:EST
DTSTART:20261101T060000
END:STANDARD
BEGIN:DAYLIGHT
TZOFFSETFROM:-0500
TZOFFSETTO:-0400
TZNAME:EDT
DTSTART:20270314T070000
END:DAYLIGHT
BEGIN:STANDARD
TZOFFSETFROM:-0400
TZOFFSETTO:-0500
TZNAME:EST
DTSTART:20271107T060000
END:STANDARD
END:VTIMEZONE
BEGIN:VEVENT
DTSTART;TZID=America/New_York:20260310T120000
DTEND;TZID=America/New_York:20260310T130000
DTSTAMP:20260419T102004
CREATED:20260209T203654Z
LAST-MODIFIED:20260209T204131Z
UID:44029-1773144000-1773147600@www.ceg.org
SUMMARY:Knowledge @ Noon: Leverage AI Enabled Dozuki Platform
DESCRIPTION:Join us for this free Knowledge @ Noon webinar and learn how the AI-enabled Dozuki platform is helping manufacturers empower frontline teams for stronger performance and greater productivity. \nDesigned for manufacturing organizations of all sizes\, Dozuki bridges the gap between frontline operations and existing manufacturing systems—driving real efficiency gains where it matters most. \nHow to Modernize Manufacturing—Without a Massive Team\nDiscover how leading manufacturers are transforming operations by giving their workforce the right tools\, training\, and knowledge—without relying on a large engineering staff or months of IT support. In this session\, we’ll explore how Dozuki helps organizations standardize work\, reduce turnover\, and scale expertise across multiple sites with a platform that’s fast to deploy and easy to maintain. \n  \nRegister Here\n  \n  \nPresenting Sponsor: \n  \n  \n  \nSupporting Sponsors:
URL:https://www.ceg.org/event/knowledge-noon-leverage-ai-enabled-dozuki-platform/
LOCATION:NY
ATTACH;FMTTYPE=image/png:https://www.ceg.org/wp-content/uploads/2026/02/MSN-Knowldge@noon-800-×-250-px-Email-header-2-1-e1770669467691.png
END:VEVENT
BEGIN:VEVENT
DTSTART;TZID=America/New_York:20260317T173000
DTEND;TZID=America/New_York:20260317T200000
DTSTAMP:20260419T102004
CREATED:20260305T193124Z
LAST-MODIFIED:20260305T193142Z
UID:44112-1773768600-1773777600@www.ceg.org
SUMMARY:Startup Tech Valley
DESCRIPTION:Join us for Startup Tech Valley at UAlbany ETEC Building in Albany\, NY on Tuesday\, March 17 from 5:30 to 8 p.m.  SUTV is Capital Region’s premier startup event. Connect with the entrepreneurship community. Free and open to all. \n\n\n\n\nStartup Tech Valley is a meetup for the entrepreneurship community in the Capital Region. Attendees include entrepreneurs\, business leaders\, investors\, mentors\, students\, employees of startups\, service providers to startups\, and anyone else who wants to be involved or is curious. \nWhat to Expect: \n\nConnect + Engage. Start with networking and then get introduced to startups through pitch sessions.\nNo cost to attend\, however RSVP is required.\nLight refreshments will be provided. Cash bar available.\n5:30pm Networking | 6:00 – 7:00pm Pitch Sessions\n\nIf you’re interested in pitching\, you can apply here. \nIf you’re interested in sponsoring\, you can reach out here. \n\nRegister Here\n\n 
URL:https://www.ceg.org/event/startup-tech-valley-9/
LOCATION:ETEC Building – University at Albany\, SUNY\, 1220 Washington Avenue\, Albany\, NY\, 12206\, United States
ATTACH;FMTTYPE=image/png:https://www.ceg.org/wp-content/uploads/2026/03/SUTV-March-2026-e1772739077654.png
END:VEVENT
END:VCALENDAR