BEGIN:VCALENDAR
VERSION:2.0
PRODID:-//Center for Economic Growth - ECPv6.15.18//NONSGML v1.0//EN
CALSCALE:GREGORIAN
METHOD:PUBLISH
X-ORIGINAL-URL:https://www.ceg.org
X-WR-CALDESC:Events for Center for Economic Growth
REFRESH-INTERVAL;VALUE=DURATION:PT1H
X-Robots-Tag:noindex
X-PUBLISHED-TTL:PT1H
BEGIN:VTIMEZONE
TZID:America/New_York
BEGIN:DAYLIGHT
TZOFFSETFROM:-0500
TZOFFSETTO:-0400
TZNAME:EDT
DTSTART:20190310T070000
END:DAYLIGHT
BEGIN:STANDARD
TZOFFSETFROM:-0400
TZOFFSETTO:-0500
TZNAME:EST
DTSTART:20191103T060000
END:STANDARD
BEGIN:DAYLIGHT
TZOFFSETFROM:-0500
TZOFFSETTO:-0400
TZNAME:EDT
DTSTART:20200308T070000
END:DAYLIGHT
BEGIN:STANDARD
TZOFFSETFROM:-0400
TZOFFSETTO:-0500
TZNAME:EST
DTSTART:20201101T060000
END:STANDARD
BEGIN:DAYLIGHT
TZOFFSETFROM:-0500
TZOFFSETTO:-0400
TZNAME:EDT
DTSTART:20210314T070000
END:DAYLIGHT
BEGIN:STANDARD
TZOFFSETFROM:-0400
TZOFFSETTO:-0500
TZNAME:EST
DTSTART:20211107T060000
END:STANDARD
BEGIN:DAYLIGHT
TZOFFSETFROM:-0500
TZOFFSETTO:-0400
TZNAME:EDT
DTSTART:20220313T070000
END:DAYLIGHT
BEGIN:STANDARD
TZOFFSETFROM:-0400
TZOFFSETTO:-0500
TZNAME:EST
DTSTART:20221106T060000
END:STANDARD
BEGIN:DAYLIGHT
TZOFFSETFROM:-0500
TZOFFSETTO:-0400
TZNAME:EDT
DTSTART:20230312T070000
END:DAYLIGHT
BEGIN:STANDARD
TZOFFSETFROM:-0400
TZOFFSETTO:-0500
TZNAME:EST
DTSTART:20231105T060000
END:STANDARD
BEGIN:DAYLIGHT
TZOFFSETFROM:-0500
TZOFFSETTO:-0400
TZNAME:EDT
DTSTART:20240310T070000
END:DAYLIGHT
BEGIN:STANDARD
TZOFFSETFROM:-0400
TZOFFSETTO:-0500
TZNAME:EST
DTSTART:20241103T060000
END:STANDARD
BEGIN:DAYLIGHT
TZOFFSETFROM:-0500
TZOFFSETTO:-0400
TZNAME:EDT
DTSTART:20250309T070000
END:DAYLIGHT
BEGIN:STANDARD
TZOFFSETFROM:-0400
TZOFFSETTO:-0500
TZNAME:EST
DTSTART:20251102T060000
END:STANDARD
END:VTIMEZONE
BEGIN:VEVENT
DTSTART;TZID=America/New_York:20241115T180000
DTEND;TZID=America/New_York:20241117T210000
DTSTAMP:20260421T221135
CREATED:20240906T141801Z
LAST-MODIFIED:20240906T141802Z
UID:31692-1731693600-1731877200@www.ceg.org
SUMMARY:WolfJam 2024
DESCRIPTION:Wolfjam Hackathon is a weekend Hackathon that will take place in November where developers\, innovators and designers from Upstate New York come together in the Capital Region to share ideas\, form teams\, and build awesome products! \nThey will be hosting the event in-person and virtually so teams can participate and collaborate wherever is easiest for them. CEG is proud to sponsor this year’s event.  \nRegistration & More Details >>
URL:https://www.ceg.org/event/wolfjam-2024/
LOCATION:ETEC
CATEGORIES:Game Development
ATTACH;FMTTYPE=image/jpeg:https://www.ceg.org/wp-content/uploads/2024/09/WolfJam-2024-image.jpg
END:VEVENT
BEGIN:VEVENT
DTSTART;TZID=America/New_York:20240417T173000
DTEND;TZID=America/New_York:20240417T190000
DTSTAMP:20260421T221135
CREATED:20240315T145341Z
LAST-MODIFIED:20240416T145927Z
UID:20459-1713375000-1713380400@www.ceg.org
SUMMARY:Startup Tech Valley
DESCRIPTION:What is Startup Tech Valley?\nMeetup for first-time entrepreneurs\, experienced entrepreneurs\, aspiring entrepreneurs\, investors\, mentors\, students\, employees of startups\, service providers to startups\, and anyone else who wants to be involved or is curious. \nWhat to Expect\nConnect + Engage. Start with networking and then get introduced to startups through informal pitch sessions. \nNo cost to attend\, however RSVP is required. Light refreshments will be provided. Cash bar available. \n5:30pm Networking | 6:00 – 7:00pm Pitch Sessions\nDoors open at 5:00pm \nRegister Now!\nCan’t make it in person? Watch the livestream here: https://www.youtube.com/watch?v=IdFixi-oKgw \nThis month’s program includes pitches from*:\nFurnitureBnB \nFurnitureBnB is a one-stop shop web platform to outfit themed Short Term Rentals [properties] with thoughtfully curated collections of high-impact furniture known to increase rental revenue. Sourcing and selecting photogenic pieces so you don’t have to. Which\, in turn\, makes beautiful design quick and easily accessible to the investor/owner.  \nThin Air \n\nThin Air eliminates the concept of “tabs” on your computer. It introduces a new computer interface enabling you to have more screen space with no additional monitors. Organize\, work\, and collaborate like never before on Thin Air. \n\nHelios \nAs a research and data science organization\, our mission is to further the frontiers of speech analytics. We strive to redefine tone of voice by detecting subtle cues in executive communication invisible to the human ear. Our data services deliver an informational edge to help clients anticipate stock moves\, spot incongruities between words and tone\, and navigate volatility with confidence. \nWolfJaw \nWolfjaw Studios is a development studio based in Troy\, New York\, developing online game services with a keen focus on player experience. \n*Subject to change \nPresented in collaboration by:
URL:https://www.ceg.org/event/startup-tech-valley-2/
LOCATION:Brown’s Revolution Hall\, 425 River St\, Troy\, NY\, 12180
CATEGORIES:Advanced Electronics & Manufacturing,Biotechnology/Life Sciences,Business Networking,Clean Energy,Funding,Game Development,Startups/Entrepreneurship,Workforce/Talent
ATTACH;FMTTYPE=image/png:https://www.ceg.org/wp-content/uploads/2024/03/SUTV-Graphic-4-17_sm.png
END:VEVENT
BEGIN:VEVENT
DTSTART;TZID=America/New_York:20220319T100000
DTEND;TZID=America/New_York:20220320T160000
DTSTAMP:20260421T221135
CREATED:20220203T173330Z
LAST-MODIFIED:20220204T212459Z
UID:16700-1647684000-1647792000@www.ceg.org
SUMMARY:HV Gamer Con 2022
DESCRIPTION:HV Gamer Con returns bigger and better than ever\, and now you have the chance to win thousands in cash and prizes. Watch the best collegoate esports athletes from around the country come together to battle it out in Super Smash Bros. Ultimate\, Ricket League and Overwatch. Get ready to make it big and hear from our experts during our panel discussions on “How to be Recruited to be an Esports Athlete” and “How to make a Career in Video Game Production”. \nTake a break from the mainstage to compete in Madden 22\, NBA 2k22\, Rocket League and Super Smash Bros. Ultimate. Meet and greets with top gamers to be announced! You can buy a session pass or the all-access weekend pass to maximize your experience. \n  \nWeekend Schedule \nSaturday\, March 19 \nTBA: How to be Recruited to be an Esports Athlete at Mainstage \n10am – 2pm: Rocket League ECAC Play at ECAC Tournament Stage \n10am – 2pm: Madden 22 Tournament at Public Stage [Preregistration Required] \n4pm – 8pm: Super SMash Bros. Ultimate ECAC Play at ECAC Tournament Stage \n4pm: How to Make a Career in Video Game Production at Mainstage \nTBA: Rocket League Tournament at Public Stage \nSunday\, March 20 \n12pm – 7pm: Overwatch ECAC Play at ECAC Tournament Stage \n12pm – 4pm: NBA2k22 at Public Stage [Preregistration Required] \n12pm: How to Be Recruited to be an Esports Athlete at Mainstage \nTBA: Knockout City at Public Stage \n  \n  \nREGISTER HERE>>\nPer NYS Guidelines\, masks are required for this event. This measure is effective Dec. 13\, 2021 until Feb. 10\, 2022\, after which the State will re-evaluate based on current conditions.     \n  \n 
URL:https://www.ceg.org/event/hv-gamer-con-2022/
LOCATION:Albany Capital Center\, 55 Eagle Street\, Albany\, NY\, 12207\, United States
CATEGORIES:Game Development
ATTACH;FMTTYPE=image/jpeg:https://www.ceg.org/wp-content/uploads/2022/02/HV-Gamercon-e1643909583430.jpg
END:VEVENT
BEGIN:VEVENT
DTSTART;TZID=America/New_York:20201104T120000
DTEND;TZID=America/New_York:20201104T130000
DTSTAMP:20260421T221135
CREATED:20201021T194755Z
LAST-MODIFIED:20201022T142755Z
UID:12814-1604491200-1604494800@www.ceg.org
SUMMARY:TVCOG Presents Food for Thought # 5: Prototyping for Mixed Reality Games with Velan Studios
DESCRIPTION:The Manufacturing Incubator at TVCOG Presents Food for Thought # 5: Prototyping for Mixed Reality Games with Velan Studios\n \n\n\n\n\n\n\nAbout this Event\n\n\nThe Manufacturing Incubator at Tech Valley Center of Gravity presents Food for Thought: A Business & Product Development Virtual Luncheon Series. What started as an experiment by a small team at Velan Studios ended up as their debut title\, Mario Kart Live: Home Circuit! Starting as a “find the fun” experiment\, their team began the prototyping process for what would become a mixed-reality game partnership between Nintendo and Velan Studios right here at Tech Valley Center of Gravity! \n“Find the fun” in prototyping and join us for a special presentation from Velan Studios! Dan Doptis\, Jan-Erik Steel\, and Ed Tumbusch of Velan will discuss the challenges and the magic of their team’s three-year journey from ideation to prototype for the studios debut title\, Mario Kart Live: Home Circuit! \nDan Doptis\, a Full Sail graduate\, has worked in the video game industry for over 16 years. He is credited as an engineer and designer on over 8 titles and most recently is credited with being the Game Director and co-inventor of Mario Kart Live Home Circuit. He has a passion for toy building and is named on several US patents related to hardware interaction within a video game. He currently works at Velan Studios as an engineer. \nGrowing up\, Ed Tumbusch always knew that he wanted to make video games. After graduating from the University of Nevada Reno with a degree in Computer Science\, he began his adventure in the game development world that has spanned 14 years\, 4 studios and over 12 shipped titles to date. Ed has always been an avid maker\, diving headfirst into 3D printing\, electronics building\, woodworking\, and drone racing. Today\, Ed is employed by Velan Studios where he can combine his game development experience with his love for tinkering. \nJan-Erik Steel has worked in the game industry for over 20 years\, and has been credited on over 15 console and handheld titles. His most recent role as Lead Programmer on Mario Kart Live: Home Circuit was a career highlight and a dream come true. Prior to joining the founding team at Velan Studios\, Jan-Erik was co-founder of Waypoint Labs\, an AR-centric startup that was awarded Grand Prizes at VR/AR challenges at the MIT Media Lab and an AT&T Developer Summit. He is named on several patents for physical toy-game interactions and touchscreen gameplay mechanics. \nVelan Studios was founded in 2016 with a mission to uncover the magic of breakthrough technology and design to deliver revolutionary gameplay experiences. Based in downtown Troy\, the team at Velan Studios is comprised of a diverse set of seasoned developers who have worked on multiple hit games and franchises; including Guitar Hero\, Rock Band\, Uncharted\, Destiny\, Skylanders\, Metroid\, Tony Hawk\, Donkey Kong Country\, and more. Velan’s first game\, Mario Kart Live: Home Circuit\, was released in October of 2020 in partnership with Nintendo. \nThe Manufacturing Incubator at Tech Valley Center of Gravity provides expert coaching and incubation across industries\, advisory services and support for product-related startups. For members launching entrepreneurial ventures\, we offer resources for product development through the Prototyping Center\, with its advanced manufacturing equipment and flexible workspace. \n  \n\n\nREGISTER HERE>>\n\n 
URL:https://www.ceg.org/event/tvcog-presents-food-for-thought-5-prototyping-for-mixed-reality-games-with-velan-studios/
CATEGORIES:Business Growth Solutions,Business Networking,Education/Training,Game Development,Startups/Entrepreneurship,Workforce/Talent
ATTACH;FMTTYPE=image/png:https://www.ceg.org/wp-content/uploads/2020/10/food-for-thought-nov-5-e1603309846722.png
END:VEVENT
END:VCALENDAR