BEGIN:VCALENDAR
VERSION:2.0
PRODID:-//Center for Economic Growth - ECPv6.15.18//NONSGML v1.0//EN
CALSCALE:GREGORIAN
METHOD:PUBLISH
X-WR-CALNAME:Center for Economic Growth
X-ORIGINAL-URL:https://www.ceg.org
X-WR-CALDESC:Events for Center for Economic Growth
REFRESH-INTERVAL;VALUE=DURATION:PT1H
X-Robots-Tag:noindex
X-PUBLISHED-TTL:PT1H
BEGIN:VTIMEZONE
TZID:America/New_York
BEGIN:DAYLIGHT
TZOFFSETFROM:-0500
TZOFFSETTO:-0400
TZNAME:EDT
DTSTART:20240310T070000
END:DAYLIGHT
BEGIN:STANDARD
TZOFFSETFROM:-0400
TZOFFSETTO:-0500
TZNAME:EST
DTSTART:20241103T060000
END:STANDARD
BEGIN:DAYLIGHT
TZOFFSETFROM:-0500
TZOFFSETTO:-0400
TZNAME:EDT
DTSTART:20250309T070000
END:DAYLIGHT
BEGIN:STANDARD
TZOFFSETFROM:-0400
TZOFFSETTO:-0500
TZNAME:EST
DTSTART:20251102T060000
END:STANDARD
BEGIN:DAYLIGHT
TZOFFSETFROM:-0500
TZOFFSETTO:-0400
TZNAME:EDT
DTSTART:20260308T070000
END:DAYLIGHT
BEGIN:STANDARD
TZOFFSETFROM:-0400
TZOFFSETTO:-0500
TZNAME:EST
DTSTART:20261101T060000
END:STANDARD
END:VTIMEZONE
BEGIN:VEVENT
DTSTART;TZID=America/New_York:20250220T173000
DTEND;TZID=America/New_York:20250220T200000
DTSTAMP:20260422T151739
CREATED:20250213T180526Z
LAST-MODIFIED:20250213T181541Z
UID:42669-1740072600-1740081600@www.ceg.org
SUMMARY:Startup Tech Valley
DESCRIPTION:What to Expect: \n\nConnect + Engage. Start with networking and then get introduced to startups through informal pitch sessions.\nNo cost to attend\, however RSVP is required.\nLight refreshments will be provided. Cash bar available.\n5:30pm Networking | 6:00 – 7:00pm Pitch Sessions\n\nPresenters: To be confirmed \n  \n\n  \nPresented in collaboration by: \n\n\n\n\n\n\n\n 
URL:https://www.ceg.org/event/startup-tech-valley-5/
LOCATION:Brown’s Revolution Hall\, 425 River St\, Troy\, NY\, 12180
CATEGORIES:Funding,Startups/Entrepreneurship,Workforce/Talent
ATTACH;FMTTYPE=image/png:https://www.ceg.org/wp-content/uploads/2025/02/SUTV-Eventbrite-e1739470464525.png
END:VEVENT
END:VCALENDAR