BEGIN:VCALENDAR
VERSION:2.0
PRODID:-//Center for Economic Growth - ECPv6.15.18//NONSGML v1.0//EN
CALSCALE:GREGORIAN
METHOD:PUBLISH
X-ORIGINAL-URL:https://www.ceg.org
X-WR-CALDESC:Events for Center for Economic Growth
REFRESH-INTERVAL;VALUE=DURATION:PT1H
X-Robots-Tag:noindex
X-PUBLISHED-TTL:PT1H
BEGIN:VTIMEZONE
TZID:America/New_York
BEGIN:DAYLIGHT
TZOFFSETFROM:-0500
TZOFFSETTO:-0400
TZNAME:EDT
DTSTART:20240310T070000
END:DAYLIGHT
BEGIN:STANDARD
TZOFFSETFROM:-0400
TZOFFSETTO:-0500
TZNAME:EST
DTSTART:20241103T060000
END:STANDARD
BEGIN:DAYLIGHT
TZOFFSETFROM:-0500
TZOFFSETTO:-0400
TZNAME:EDT
DTSTART:20250309T070000
END:DAYLIGHT
BEGIN:STANDARD
TZOFFSETFROM:-0400
TZOFFSETTO:-0500
TZNAME:EST
DTSTART:20251102T060000
END:STANDARD
BEGIN:DAYLIGHT
TZOFFSETFROM:-0500
TZOFFSETTO:-0400
TZNAME:EDT
DTSTART:20260308T070000
END:DAYLIGHT
BEGIN:STANDARD
TZOFFSETFROM:-0400
TZOFFSETTO:-0500
TZNAME:EST
DTSTART:20261101T060000
END:STANDARD
END:VTIMEZONE
BEGIN:VEVENT
DTSTART;TZID=America/New_York:20251113T160000
DTEND;TZID=America/New_York:20251113T183000
DTSTAMP:20260419T210349
CREATED:20250925T170120Z
LAST-MODIFIED:20251111T154033Z
UID:43228-1763049600-1763058600@www.ceg.org
SUMMARY:CEG Annual Meeting 2025
DESCRIPTION:Join the Capital Region’s business leaders & professionals for an evening of networking\, economic development and industry updates!\n\n\nAgenda\n4 p.m. –  Check-In & Networking\n4:30 – 6:30 p.m. –  Program followed by Networking Reception \nPricing\n*CEG Investors: $125 | Non-Investors: $175  \n*Discounted rate for CEG Investors! Unsure if your company is an Investor in CEG? Check out our Investor list here. \n\nFor questions please contact lcognato@capitalregionchamber.com.  Please be sure to write “CEG Annual Meeting” in the subject line & provide the email addresses\, full names & company names for those you are looking to procure tickets for.  Please note that email is the preferred method of contact and that voicemails may not be received in time to respond. \n  \n\n\nPresenting Sponsor:\nPioneer is a full-service financial institution serving individuals\, businesses\, and communities with twenty-two locations throughout New York’s Capital Region. \n\n  \n \n \nReception Sponsor\n\n\n\n\n \n\n\n\n\n\n \nSupporting Sponsors:\n\n\n\n\n \n\n \n\n \n\n \n\n \n\n\n\n\n \n\n \n\n \n\n \n\n \n\n\n\n\n \nContributing Sponsors:\n  \nAdvance Albany County Alliance \nBallston Spa National Bank (BSNB) \nCDTA \nCommunity Bank \nHarris Beach Murtha\, Attorneys at Law \nNY CREATES \nNYSEG (Rochester Gas & Electric) \nRensselaer County IDA \nRivers Casino & Resort Schenectady \nThe Rosenblum Companies \nWhiteman Osterman & Hanna LLP
URL:https://www.ceg.org/event/ceg-annual-meeting-2025/
LOCATION:HVCC North\, 345 Hermes Road\, Malta\, NY\, 12020\, United States
CATEGORIES:Business Networking
ATTACH;FMTTYPE=image/jpeg:https://www.ceg.org/wp-content/uploads/2025/09/AM-option-final.jpg
END:VEVENT
BEGIN:VEVENT
DTSTART;TZID=America/New_York:20251120T170000
DTEND;TZID=America/New_York:20251120T200000
DTSTAMP:20260419T210349
CREATED:20251016T144837Z
LAST-MODIFIED:20251016T144955Z
UID:43484-1763658000-1763668800@www.ceg.org
SUMMARY:Startup Tech Valley
DESCRIPTION:Thursday\, November 20 | 5:00 – 8:00 p.m.\nThe Innovation Center at Saratoga | 16 Old Stonebreak Road Ballston Spa\, NY 12020 \n\n\n\n\n\nStartup Tech Valley is a networking and pitch event for the entrepreneurship community in the Capital Region. Attendees include entrepreneurs\, business leaders\, investors\, mentors\, students\, employees of startups\, service providers to startups\, and anyone else who wants to be involved or is curious. \nThis month\, we’re partnering with Innovation Center Saratoga to host presentations in their space. The Innovation Center at Saratoga\, Inc. is a makerspace where artists\, entrepreneurs\, and community members come together to learn\, create\, and innovate. \nWhat to Expect: \n\nConnect + Engage. Start with networking and then get introduced to startups through pitch sessions.\nNo cost to attend\, however RSVP is required\n5:00pm Networking | 6:00pm Pitches | 7:00pm More Networking\n\nIf you’re interested in pitching\, you can apply here. \nIf you’re interested in sponsoring\, you can reach out here. \n  \n\n\n\n\n\nRegister to attend
URL:https://www.ceg.org/event/startup-tech-valley-7/
LOCATION:The Innovation Center at Saratoga\, 16 Old Stonebreak Road\, Ballston Spa\, NY\, 12020\, United States
CATEGORIES:Business Networking,Startups/Entrepreneurship
ATTACH;FMTTYPE=image/png:https://www.ceg.org/wp-content/uploads/2025/10/SUTV-Banner-112025_sm.png
END:VEVENT
END:VCALENDAR