BEGIN:VCALENDAR
VERSION:2.0
PRODID:-//Center for Economic Growth - ECPv6.15.18//NONSGML v1.0//EN
CALSCALE:GREGORIAN
METHOD:PUBLISH
X-ORIGINAL-URL:https://www.ceg.org
X-WR-CALDESC:Events for Center for Economic Growth
REFRESH-INTERVAL;VALUE=DURATION:PT1H
X-Robots-Tag:noindex
X-PUBLISHED-TTL:PT1H
BEGIN:VTIMEZONE
TZID:America/New_York
BEGIN:DAYLIGHT
TZOFFSETFROM:-0500
TZOFFSETTO:-0400
TZNAME:EDT
DTSTART:20200308T070000
END:DAYLIGHT
BEGIN:STANDARD
TZOFFSETFROM:-0400
TZOFFSETTO:-0500
TZNAME:EST
DTSTART:20201101T060000
END:STANDARD
BEGIN:DAYLIGHT
TZOFFSETFROM:-0500
TZOFFSETTO:-0400
TZNAME:EDT
DTSTART:20210314T070000
END:DAYLIGHT
BEGIN:STANDARD
TZOFFSETFROM:-0400
TZOFFSETTO:-0500
TZNAME:EST
DTSTART:20211107T060000
END:STANDARD
BEGIN:DAYLIGHT
TZOFFSETFROM:-0500
TZOFFSETTO:-0400
TZNAME:EDT
DTSTART:20220313T070000
END:DAYLIGHT
BEGIN:STANDARD
TZOFFSETFROM:-0400
TZOFFSETTO:-0500
TZNAME:EST
DTSTART:20221106T060000
END:STANDARD
END:VTIMEZONE
BEGIN:VEVENT
DTSTART;TZID=America/New_York:20211005T080000
DTEND;TZID=America/New_York:20211005T093000
DTSTAMP:20260421T083849
CREATED:20210819T183555Z
LAST-MODIFIED:20211004T135433Z
UID:15580-1633420800-1633426200@www.ceg.org
SUMMARY:**CANCELLED** Enterprise Selling: Sales & Business Development Strategies for B2B Markets
DESCRIPTION:**This event has been CANCELLED** \n  \nPlease join us for Enterprise Selling: Sales & Business Development Strategies for Complex B2B Markets presented by Matt Scarchilli\, CEO Winning Process. \n  \nThis is an in-person event located at Capital Region Chamber of Commerce: 5 Computer Drive S\, Albany\, NY 12205. \nThe training consists of three 1.5 hour sessions on October 5\, 12\, 20 (see times below). Participants MUST sign up for all 3 sessions. \nCost: $99 per person with a $297 max per company (max 6 people). \n  \nSandler Enterprise Selling (SES) – A Systematic Approach to Winning Enterprise Business \n• SES takes everything that makes Sandler sales training so effective and tailors it to the needs of companies selling to enterprise clients. \n• Based on 6 highly strategic stages offering a continuous process of attaining\, servicing\, and growing an enterprise opportunity \n• Here’s what one local manufacturer had to say about SES as a system: “SES is well aligned with where we see our growth coming from and the type of customers we are going after.” – Ted Collins\, VP Sales & Marketing\, Blasch Precision Ceramics \n  \nThe program topics\, which will be covered in the October 2021 sessions\, touch on three of the six stages of SES; they are: \n  \n• Territory and Account Planning: Oct 5\, 8:00 am – 9:30 am \nIn this critical stage\, you begin setting a strong baseline for success through comprehensive planning. \n  \n• Opportunity Identification (Prospecting): Oct 12\, 8:00 am – 9:30 am \nNext you analyze\, assess and initiate interaction on your most promising opportunities with the highest probability of success. \n  \n• Qualification: Oct 20\, 3:00 pm to 4:30 pm \nHere you begin executing a practical plan to engage with the enterprise buyers to clarify the key opportunity parameters\, which will improve and reinforce your position. \n  \nJoin us to learn and sharpen the saw when it comes to these three core aspects of any sales process; they are vital for everyone in a forward- / client-facing role. \n  \nREGISTER HERE>>\n  \n 
URL:https://www.ceg.org/event/enterprise-selling-sales-business-development-strategies-for-b2b-markets/
LOCATION:Capital Region Chamber of Commerce\, 5 Computer Drive South\, Albany\, NY\, 12205\, United States
CATEGORIES:Business Growth Solutions,Education/Training,Manufacturing
ATTACH;FMTTYPE=image/png:https://www.ceg.org/wp-content/uploads/2021/08/Matt-Enterprise-Selling-1-e1629397965283.png
END:VEVENT
END:VCALENDAR