BEGIN:VCALENDAR
VERSION:2.0
PRODID:-//Center for Economic Growth - ECPv6.15.18//NONSGML v1.0//EN
CALSCALE:GREGORIAN
METHOD:PUBLISH
X-WR-CALNAME:Center for Economic Growth
X-ORIGINAL-URL:https://www.ceg.org
X-WR-CALDESC:Events for Center for Economic Growth
REFRESH-INTERVAL;VALUE=DURATION:PT1H
X-Robots-Tag:noindex
X-PUBLISHED-TTL:PT1H
BEGIN:VTIMEZONE
TZID:America/New_York
BEGIN:DAYLIGHT
TZOFFSETFROM:-0500
TZOFFSETTO:-0400
TZNAME:EDT
DTSTART:20240310T070000
END:DAYLIGHT
BEGIN:STANDARD
TZOFFSETFROM:-0400
TZOFFSETTO:-0500
TZNAME:EST
DTSTART:20241103T060000
END:STANDARD
BEGIN:DAYLIGHT
TZOFFSETFROM:-0500
TZOFFSETTO:-0400
TZNAME:EDT
DTSTART:20250309T070000
END:DAYLIGHT
BEGIN:STANDARD
TZOFFSETFROM:-0400
TZOFFSETTO:-0500
TZNAME:EST
DTSTART:20251102T060000
END:STANDARD
BEGIN:DAYLIGHT
TZOFFSETFROM:-0500
TZOFFSETTO:-0400
TZNAME:EDT
DTSTART:20260308T070000
END:DAYLIGHT
BEGIN:STANDARD
TZOFFSETFROM:-0400
TZOFFSETTO:-0500
TZNAME:EST
DTSTART:20261101T060000
END:STANDARD
END:VTIMEZONE
BEGIN:VEVENT
DTSTART;TZID=America/New_York:20250320T173000
DTEND;TZID=America/New_York:20250320T200000
DTSTAMP:20260422T120601
CREATED:20250320T143342Z
LAST-MODIFIED:20250320T143512Z
UID:42783-1742491800-1742500800@www.ceg.org
SUMMARY:Startup Tech Valley
DESCRIPTION:Startup Tech Valley is a meetup for the entrepreneurship community in the Capital Region. Attendees include entrepreneurs\, business leaders\, investors\, mentors\, students\, employees of startups\, service providers to startups\, and anyone else who wants to be involved or is curious. \nWhat to Expect: \n\nConnect + Engage. Start with networking and then get introduced to startups through pitch sessions.\nNo cost to attend\, however RSVP is required.\nLight refreshments will be provided. Cash bar available.\n5:30pm Networking | 6:00 – 7:00pm Pitch Sessions\n\nPlus\, don’t miss our entrepreneurship resource spotlights from UAlbany Innovation Center\, FuzeHub\, Community Loan Fund of the Capital Region and Rensselaer Chamber of Commerce. \n\n\n\n\n\n\n\n\n\n\n\n\n\n\n\n\nPitch Presenters: \nWilliam Lawler – Talinted \nTalinted is working to create new technologies to expand the field of gene editing. Talinted is developing gene editing therapies to treat more diseases and make the technology useful in more applications.  \nÁngel Enríquez – Emboa Medical \nEmboa Medical has developed a novel blood clot extraction device to address the prevalent issue of stroke\, which is the second leading cause of death in the world. Current tools for surgeons solving ischemic stroke rely on removing blood clots to restore blood flow to the brain. But their tools are limited with smaller sized blood vessels. Using nature-inspired design\, Emboa Medical has developed a novel tool that increases blood clot extraction forces regardless of catheter size.  \nDaniel Van Hoesen – Euler Science \nEuler Science is a small team of physicists / data scientists who have expertise in data science\, machine-learning\, condensed matter\, computational biophysics\, and related areas. Altogether\, we have a combined experience of 15 years in software and web development. Traditional search engines are poorly adapted for fields that rely heavily on exploration and discovery as they adapt rank-based methods for the presentation and interrogation of queries. In many fields\, particularly research\, identifying and discovering high quality and relevant scientific results and prior art are key to technological advancement. ARCHIMEDES (ARCHetype for IMprovED knowledgE Search) is Euler Science’s upcoming search engine that aims to make the process of exploration and discovery more efficient and intuitive by recontextualizing its problem domain. \n\n\n\n\n\n\n\n\n  \nREGISTER HERE!
URL:https://www.ceg.org/event/startup-tech-valley-6/
LOCATION:Brown’s Revolution Hall\, 425 River St\, Troy\, NY\, 12180
CATEGORIES:Startups/Entrepreneurship
ATTACH;FMTTYPE=image/png:https://www.ceg.org/wp-content/uploads/2025/03/SUTV-Graphic-march-2-e1742481197898.png
END:VEVENT
END:VCALENDAR