BEGIN:VCALENDAR
VERSION:2.0
PRODID:-//Center for Economic Growth - ECPv6.15.18//NONSGML v1.0//EN
CALSCALE:GREGORIAN
METHOD:PUBLISH
X-WR-CALNAME:Center for Economic Growth
X-ORIGINAL-URL:https://www.ceg.org
X-WR-CALDESC:Events for Center for Economic Growth
REFRESH-INTERVAL;VALUE=DURATION:PT1H
X-Robots-Tag:noindex
X-PUBLISHED-TTL:PT1H
BEGIN:VTIMEZONE
TZID:America/New_York
BEGIN:DAYLIGHT
TZOFFSETFROM:-0500
TZOFFSETTO:-0400
TZNAME:EDT
DTSTART:20230312T070000
END:DAYLIGHT
BEGIN:STANDARD
TZOFFSETFROM:-0400
TZOFFSETTO:-0500
TZNAME:EST
DTSTART:20231105T060000
END:STANDARD
BEGIN:DAYLIGHT
TZOFFSETFROM:-0500
TZOFFSETTO:-0400
TZNAME:EDT
DTSTART:20240310T070000
END:DAYLIGHT
BEGIN:STANDARD
TZOFFSETFROM:-0400
TZOFFSETTO:-0500
TZNAME:EST
DTSTART:20241103T060000
END:STANDARD
BEGIN:DAYLIGHT
TZOFFSETFROM:-0500
TZOFFSETTO:-0400
TZNAME:EDT
DTSTART:20250309T070000
END:DAYLIGHT
BEGIN:STANDARD
TZOFFSETFROM:-0400
TZOFFSETTO:-0500
TZNAME:EST
DTSTART:20251102T060000
END:STANDARD
END:VTIMEZONE
BEGIN:VEVENT
DTSTART;TZID=America/New_York:20240424T120000
DTEND;TZID=America/New_York:20240424T170000
DTSTAMP:20260423T064838
CREATED:20240306T145850Z
LAST-MODIFIED:20240306T150229Z
UID:20384-1713960000-1713978000@www.ceg.org
SUMMARY:Venture NY - Upstate Capital
DESCRIPTION:Venture NY is the marquee early-stage event for Upstate Capital and provides significant opportunities for early-stage and emerging investors to learn from their peer’s experiences\, meet other active investors\, and gain exposure to deal flow. \nThis year focuses on building investor syndicates and raising new investment funds. \n\n  \n  \n  \n  \n  \n  \nLearn more & Register here\n  \n 
URL:https://www.ceg.org/event/venture-ny-upstate-capital/
LOCATION:NY
CATEGORIES:Business Growth Solutions
ATTACH;FMTTYPE=image/png:https://www.ceg.org/wp-content/uploads/2024/03/Venture-NY-Thumbnail.png
END:VEVENT
END:VCALENDAR