BEGIN:VCALENDAR
VERSION:2.0
PRODID:-//Center for Economic Growth - ECPv6.15.18//NONSGML v1.0//EN
CALSCALE:GREGORIAN
METHOD:PUBLISH
X-ORIGINAL-URL:https://www.ceg.org
X-WR-CALDESC:Events for Center for Economic Growth
REFRESH-INTERVAL;VALUE=DURATION:PT1H
X-Robots-Tag:noindex
X-PUBLISHED-TTL:PT1H
BEGIN:VTIMEZONE
TZID:America/New_York
BEGIN:DAYLIGHT
TZOFFSETFROM:-0500
TZOFFSETTO:-0400
TZNAME:EDT
DTSTART:20240310T070000
END:DAYLIGHT
BEGIN:STANDARD
TZOFFSETFROM:-0400
TZOFFSETTO:-0500
TZNAME:EST
DTSTART:20241103T060000
END:STANDARD
BEGIN:DAYLIGHT
TZOFFSETFROM:-0500
TZOFFSETTO:-0400
TZNAME:EDT
DTSTART:20250309T070000
END:DAYLIGHT
BEGIN:STANDARD
TZOFFSETFROM:-0400
TZOFFSETTO:-0500
TZNAME:EST
DTSTART:20251102T060000
END:STANDARD
BEGIN:DAYLIGHT
TZOFFSETFROM:-0500
TZOFFSETTO:-0400
TZNAME:EDT
DTSTART:20260308T070000
END:DAYLIGHT
BEGIN:STANDARD
TZOFFSETFROM:-0400
TZOFFSETTO:-0500
TZNAME:EST
DTSTART:20261101T060000
END:STANDARD
END:VTIMEZONE
BEGIN:VEVENT
DTSTART;TZID=America/New_York:20250909T120000
DTEND;TZID=America/New_York:20250909T130000
DTSTAMP:20260421T235516
CREATED:20250822T150508Z
LAST-MODIFIED:20250822T154211Z
UID:43234-1757419200-1757422800@www.ceg.org
SUMMARY:Knowledge @ Noon: Unlock the Power of Modern ERP
DESCRIPTION:Is your business running on disconnected systems\, manual processes\, or outdated tools? Modern ERP platforms are transforming the way organizations manage finance\, operations\, supply chain\, and sales—bringing everything together in one intelligent system. \nJoin us for an engaging Knowledge @ Noon virtual session\, featuring Tim Blake\, CEO of BBB Techs. \nIn this interactive virtual session\, you’ll: \n\nLearn how ERP drives agility\, efficiency\, and smarter decision-making\nExplore real-world use cases that show ERP in action\nSee how AI and automation are shaping the future of ERP\nUnderstand the tangible benefits of modernizing your business systems\n\nPlus\, get a live look at Microsoft Dynamics 365 Business Central in action—helping businesses: \n\nGain real-time insights\nStreamline workflows\nScale with confidence\n\nDon’t miss this opportunity to learn how the right ERP can become the backbone of your organization’s growth \n 
URL:https://www.ceg.org/event/knowledge-noon-unlock-the-power-of-modern-erp/
LOCATION:NY
CATEGORIES:Manufacturing
ATTACH;FMTTYPE=image/png:https://www.ceg.org/wp-content/uploads/2025/08/Sept-2025-1-e1755875097328.png
END:VEVENT
BEGIN:VEVENT
DTSTART;TZID=America/New_York:20250923T170000
DTEND;TZID=America/New_York:20250923T190000
DTSTAMP:20260421T235516
CREATED:20250919T140121Z
LAST-MODIFIED:20250919T140121Z
UID:43347-1758646800-1758654000@www.ceg.org
SUMMARY:Startup Tech Valley Happy Hour
DESCRIPTION:Tuesday\, September 23 | 5:00 – 7:00 p.m.\nIllium Brewing Co. | 410 Fulton Street\, Troy\, NY \nStartup Tech Valley is a meetup for the entrepreneurship community in the Capital Region. Attendees include entrepreneurs\, business leaders\, investors\, mentors\, students\, employees of startups\, service providers to startups\, and anyone else who wants to be involved or is curious. \nWhat to Expect: \nJoin us for a Startup Tech Valley Happy Hour to connect with the Capital Region entrepreneurship community.Whether you’re an entrepreneur or just someone with a passion for innovation\, this is the perfect chance to: \n\nUnwind with refreshing beverages and delicious bites\nNetwork with like-minded professionals and potential collaborators\nEngage with the Startup Tech Valley community\n\n  \nRegister to attend
URL:https://www.ceg.org/event/startup-tech-valley-happy-hour/
LOCATION:Ilium Brewing Co\, 410 Fulton Street\, Troy\, NY\, 12180
CATEGORIES:Startups/Entrepreneurship
ATTACH;FMTTYPE=image/png:https://www.ceg.org/wp-content/uploads/2025/09/9-23-Happy-Hour-SUTV-Eventbritev2.png
END:VEVENT
END:VCALENDAR