BEGIN:VCALENDAR
VERSION:2.0
PRODID:-//Center for Economic Growth - ECPv6.15.18//NONSGML v1.0//EN
CALSCALE:GREGORIAN
METHOD:PUBLISH
X-WR-CALNAME:Center for Economic Growth
X-ORIGINAL-URL:https://www.ceg.org
X-WR-CALDESC:Events for Center for Economic Growth
REFRESH-INTERVAL;VALUE=DURATION:PT1H
X-Robots-Tag:noindex
X-PUBLISHED-TTL:PT1H
BEGIN:VTIMEZONE
TZID:America/New_York
BEGIN:DAYLIGHT
TZOFFSETFROM:-0500
TZOFFSETTO:-0400
TZNAME:EDT
DTSTART:20240310T070000
END:DAYLIGHT
BEGIN:STANDARD
TZOFFSETFROM:-0400
TZOFFSETTO:-0500
TZNAME:EST
DTSTART:20241103T060000
END:STANDARD
BEGIN:DAYLIGHT
TZOFFSETFROM:-0500
TZOFFSETTO:-0400
TZNAME:EDT
DTSTART:20250309T070000
END:DAYLIGHT
BEGIN:STANDARD
TZOFFSETFROM:-0400
TZOFFSETTO:-0500
TZNAME:EST
DTSTART:20251102T060000
END:STANDARD
BEGIN:DAYLIGHT
TZOFFSETFROM:-0500
TZOFFSETTO:-0400
TZNAME:EDT
DTSTART:20260308T070000
END:DAYLIGHT
BEGIN:STANDARD
TZOFFSETFROM:-0400
TZOFFSETTO:-0500
TZNAME:EST
DTSTART:20261101T060000
END:STANDARD
END:VTIMEZONE
BEGIN:VEVENT
DTSTART;TZID=America/New_York:20250521T080000
DTEND;TZID=America/New_York:20250521T170000
DTSTAMP:20260422T063346
CREATED:20250508T203033Z
LAST-MODIFIED:20250508T203410Z
UID:42954-1747814400-1747846800@www.ceg.org
SUMMARY:Startup Tech Valley: May 2025
DESCRIPTION:Wednesday\, May 21 | 5:30 – 8:00 p.m. \nLaunchbox Flexible Warehouse Suites | 6 Northway Lane Latham\, NY 12110 \n\n\n\n\n\n\n\n\n\n\n\n\n\n\n\n\nStartup Tech Valley is a meetup for the entrepreneurship community in the Capital Region. Attendees include entrepreneurs\, business leaders\, investors\, mentors\, students\, employees of startups\, service providers to startups\, and anyone else who wants to be involved or is curious. \nWhat to Expect: \n\nConnect + Engage. Start with networking and then get introduced to startups through pitch sessions.\nNo cost to attend\, however RSVP is required.\nLight refreshments will be provided. Cash bar available.\n5:30pm Networking | 6:00 – 7:00pm Pitch Sessions\n\n\nThis month\, we’re partnering with Launchbox Flexible Warehouse Suites in Latham\, NY to host our presentations in their space. Launchbox provides individual warehouse and work suites from 150 to 1\,000 square feet. For no extra charge\, Launchbox members also enjoy access to shared spaces and amenities that combine the advantages of coworking with warehousing to help your business grow. \n  \nREGISTER HERE!
URL:https://www.ceg.org/event/startup-tech-valley-may-2025/
LOCATION:Launchbox\, 6 Northway Lane\, Latham\, NY\, 12110\, United States
CATEGORIES:Startups/Entrepreneurship
ATTACH;FMTTYPE=image/png:https://www.ceg.org/wp-content/uploads/2025/05/SUTV-May.png
END:VEVENT
BEGIN:VEVENT
DTSTART;TZID=America/New_York:20250528T100000
DTEND;TZID=America/New_York:20250528T100000
DTSTAMP:20260422T063346
CREATED:20250508T195930Z
LAST-MODIFIED:20250508T195948Z
UID:42950-1748426400-1748426400@www.ceg.org
SUMMARY:Strategies to Offset Tariffs with Foreign Trade Zones
DESCRIPTION:
URL:https://www.ceg.org/event/strategies-to-offset-tariffs-with-foreign-trade-zones/
LOCATION:NY
CATEGORIES:Manufacturing
END:VEVENT
END:VCALENDAR