BEGIN:VCALENDAR
VERSION:2.0
PRODID:-//Center for Economic Growth - ECPv6.15.18//NONSGML v1.0//EN
CALSCALE:GREGORIAN
METHOD:PUBLISH
X-WR-CALNAME:Center for Economic Growth
X-ORIGINAL-URL:https://www.ceg.org
X-WR-CALDESC:Events for Center for Economic Growth
REFRESH-INTERVAL;VALUE=DURATION:PT1H
X-Robots-Tag:noindex
X-PUBLISHED-TTL:PT1H
BEGIN:VTIMEZONE
TZID:America/New_York
BEGIN:DAYLIGHT
TZOFFSETFROM:-0500
TZOFFSETTO:-0400
TZNAME:EDT
DTSTART:20230312T070000
END:DAYLIGHT
BEGIN:STANDARD
TZOFFSETFROM:-0400
TZOFFSETTO:-0500
TZNAME:EST
DTSTART:20231105T060000
END:STANDARD
BEGIN:DAYLIGHT
TZOFFSETFROM:-0500
TZOFFSETTO:-0400
TZNAME:EDT
DTSTART:20240310T070000
END:DAYLIGHT
BEGIN:STANDARD
TZOFFSETFROM:-0400
TZOFFSETTO:-0500
TZNAME:EST
DTSTART:20241103T060000
END:STANDARD
BEGIN:DAYLIGHT
TZOFFSETFROM:-0500
TZOFFSETTO:-0400
TZNAME:EDT
DTSTART:20250309T070000
END:DAYLIGHT
BEGIN:STANDARD
TZOFFSETFROM:-0400
TZOFFSETTO:-0500
TZNAME:EST
DTSTART:20251102T060000
END:STANDARD
END:VTIMEZONE
BEGIN:VEVENT
DTSTART;TZID=America/New_York:20241218T173000
DTEND;TZID=America/New_York:20241218T190000
DTSTAMP:20260422T151711
CREATED:20241118T210428Z
LAST-MODIFIED:20241209T170943Z
UID:42206-1734543000-1734548400@www.ceg.org
SUMMARY:Startup Tech Valley
DESCRIPTION:What is Startup Tech Valley? \nMeetup for first-time entrepreneurs\, experienced entrepreneurs\, aspiring entrepreneurs\, investors\, mentors\, students\, employees of startups\, service providers to startups\, and anyone else who wants to be involved or is curious. \nWhat to Expect: \n\nConnect + Engage. Start with networking and then get introduced to startups through informal pitch sessions.\nNo cost to attend\, however RSVP is required.\nLight refreshments will be provided. Cash bar available.\n5:30pm Networking | 6:00 – 7:00pm Pitch Sessions\n\nThis month’s program includes pitches will –  presenters will be announced soon! \nBring a Toy and Spread Holiday Cheer!  \nWe’ve partnered with Toys for Tots for our final event of the year! Help make this holiday season magical for children in need! Bring a new\, unwrapped toy to the event\, and together\, we’ll fill our toy box with gifts for kids who could use a little extra joy this season. \nYour generosity will bring a smile to a child’s face and create holiday memories that last a lifetime. Let’s make this season brighter—one toy at a time. \nMeet the Presenters: \nLast Letter First is a fun and educational word game suitable for all ages. The game offers endless variations and can be played solo or with friends. It’s available on app stores and the web in multiple languages\, including English\, Spanish\, French\, German\, and Hindi\, with Russian and Ukrainian support coming soon. \nRoadMap Technologies\, a management consulting and data science company\, has launched a forecasting software suite that simplifies business planning. Using AI\, deep learning\, and machine learning\, it offers over 45 advanced models from top tech leaders\, enabling users to forecast from Excel data\, save results\, quantify uncertainty\, visualize insights\, and generate AI-driven analysis. \nFaction Networks offers a private\, secure alternative to traditional internet connectivity\, addressing the risks of a hyperconnected world dominated by AI\, IoT\, and cyber threats. Much like Zoom revolutionized videoconferencing\, Faction Networks aims to transform the VPN and SDN markets. \nLogatot streamlines child care compliance and communication with voice-command technology\, reducing administrative burdens. Providers can focus on children while automating paperwork and family updates\, making child care careers more sustainable and rewarding. \nAurox uses drones and advanced analytics to help local and international dairy farms optimize operations. They provide precision feed inventory tracking\, shrink analysis\, and forecasting through drone imagery and their FeedSense Dashboard\, enabling data-driven decisions to boost profitability and safety.  \n  \nRegister to attend
URL:https://www.ceg.org/event/startup-tech-valley-4/
LOCATION:Brown’s Revolution Hall\, 425 River St\, Troy\, NY\, 12180
CATEGORIES:Business Networking,Startups/Entrepreneurship,Workforce/Talent
ATTACH;FMTTYPE=image/png:https://www.ceg.org/wp-content/uploads/2024/11/SUTV-EB-.png
END:VEVENT
END:VCALENDAR