BEGIN:VCALENDAR
VERSION:2.0
PRODID:-//Center for Economic Growth - ECPv6.15.18//NONSGML v1.0//EN
CALSCALE:GREGORIAN
METHOD:PUBLISH
X-ORIGINAL-URL:https://www.ceg.org
X-WR-CALDESC:Events for Center for Economic Growth
REFRESH-INTERVAL;VALUE=DURATION:PT1H
X-Robots-Tag:noindex
X-PUBLISHED-TTL:PT1H
BEGIN:VTIMEZONE
TZID:America/New_York
BEGIN:DAYLIGHT
TZOFFSETFROM:-0500
TZOFFSETTO:-0400
TZNAME:EDT
DTSTART:20200308T070000
END:DAYLIGHT
BEGIN:STANDARD
TZOFFSETFROM:-0400
TZOFFSETTO:-0500
TZNAME:EST
DTSTART:20201101T060000
END:STANDARD
BEGIN:DAYLIGHT
TZOFFSETFROM:-0500
TZOFFSETTO:-0400
TZNAME:EDT
DTSTART:20210314T070000
END:DAYLIGHT
BEGIN:STANDARD
TZOFFSETFROM:-0400
TZOFFSETTO:-0500
TZNAME:EST
DTSTART:20211107T060000
END:STANDARD
BEGIN:DAYLIGHT
TZOFFSETFROM:-0500
TZOFFSETTO:-0400
TZNAME:EDT
DTSTART:20220313T070000
END:DAYLIGHT
BEGIN:STANDARD
TZOFFSETFROM:-0400
TZOFFSETTO:-0500
TZNAME:EST
DTSTART:20221106T060000
END:STANDARD
BEGIN:DAYLIGHT
TZOFFSETFROM:-0500
TZOFFSETTO:-0400
TZNAME:EDT
DTSTART:20230312T070000
END:DAYLIGHT
BEGIN:STANDARD
TZOFFSETFROM:-0400
TZOFFSETTO:-0500
TZNAME:EST
DTSTART:20231105T060000
END:STANDARD
END:VTIMEZONE
BEGIN:VEVENT
DTSTART;VALUE=DATE:20221025
DTEND;VALUE=DATE:20221028
DTSTAMP:20260419T115401
CREATED:20221017T164741Z
LAST-MODIFIED:20221017T164824Z
UID:17971-1666663200-1666835999@www.ceg.org
SUMMARY:New York State Innovation Summit
DESCRIPTION:NYSTAR and FuzeHub invites you to join us for the New York State Innovation Summit on October 25-26\, 2022 at the Buffalo Niagara Convention Center. This multi-day event for NYS organizations that want to showcase and discover new and emerging technologies that support innovation and drive business growth. \nThe event serves as an opportunity to foster collaboration; introduce industry to experts that can assist growth\, strengthen our statewide innovation ecosystem and showcase promising early stage companies.  Whether you’re a startup\, an economic developer\, or an established manufacturer\, the NYS Innovation Summit is for you. \nThe 2022 New York State Innovation Summit will showcase companies and researchers at the forefront of emerging technologies and new advancements in production capabilities.  This event celebrates New York State leadership in technology-led economic growth with experts in biotechnology\, new materials\, energy innovation\, and artificial intelligence that will explore current technology convergence opportunities\, ways to accelerate commercialization\, and issues of manufacturing sustainability. \n  \nLearn more and Register here\n  \n 
URL:https://www.ceg.org/event/new-york-state-innovation-summit-2/
LOCATION:Buffalo Convention Center\, 153 Franklin St\, Buffalo\, NY\, 14202
CATEGORIES:Advanced Electronics & Manufacturing,Business Networking,Clean Energy,Manufacturing
ATTACH;FMTTYPE=image/jpeg:https://www.ceg.org/wp-content/uploads/2022/10/innovation-summit-e1666025178480.jpg
END:VEVENT
BEGIN:VEVENT
DTSTART;VALUE=DATE:20221017
DTEND;VALUE=DATE:20221021
DTSTAMP:20260419T115401
CREATED:20220907T135947Z
LAST-MODIFIED:20220907T140007Z
UID:17713-1665972000-1666231199@www.ceg.org
SUMMARY:Retool’22: A Climate Tech Conference for Manufacturers
DESCRIPTION:The Retool WNY Initiative presents a climate technology conference for manufacturers and associated partners in upstate New York. Join industry leaders\, manufacturers\, investors\, and entrepreneurs October 17–19\, 2022 to learn\, network\, and collaborate on opportunities related to developing new business in the emerging climate technology sector. \nNew York State’s Climate Leadership and Community Protection Act of 2019 sets aggressive targets for decarbonization and reduction of greenhouse gases by 2050 with the goal of 100% zero-emissions electricity by 2040. Industry is changing\, creating new manufacturing opportunities. Are you prepared to take advantage of them? \nWhat to Expect\n\nLearn about market opportunities that exist in the climate technology sector.\nDiscover innovators who are already in the climate technology supply-chain.\nHear from entrepreneurs and investors about how to grow new businesses in Western NY and the Southern Tier. Meet secondary and higher education leaders who are formulating new programs and courses in response to climate technology and clean tech manufacturing needs.\nSee examples of electrified vehicles and equipment\, and talk with industry experts.\n\nAttendees\nManufacturers\, entrepreneurs\, investors\, small business owners\, public sector leaders\, secondary and higher education workforce leaders from across New York State and the Northeast region. \nCosts are outlined when you click to REGISTER. Early bird discount extended through Sept. 15th and bundled pricing available for businesses wishing to send 3 or more people. \n \n \n\nAgenda \nMonday: Check-in. Pre-conference networking opportunities at the Robert H. Jackson Center\, the Roger Tory Peterson Institute\, and the Chautauqua Harbor Hotel. \nTuesday: Keynote speakers\, panel discussions and breakout sessions at the Northwest Arena. Dinner and tour of the National Comedy Center. \nWednesday:  Half-day schedule with speakers on the challenges of manufacturing in the climate technology sector. Electric vehicle showcase. \n\n \n\n \n \nLearn More & Register Here>>\n \n \n \n 
URL:https://www.ceg.org/event/retool22-a-climate-tech-conference-for-manufacturers/
LOCATION:Northwest Arena\, 319 W 3rd St\, Jamestown\, NY\, 14701
CATEGORIES:Advanced Electronics & Manufacturing,Business Growth Solutions,Clean Energy,Education/Training,Manufacturing,Startups/Entrepreneurship,Workforce/Talent
ATTACH;FMTTYPE=image/png:https://www.ceg.org/wp-content/uploads/2022/09/retool-e1662559180936.png
END:VEVENT
BEGIN:VEVENT
DTSTART;TZID=America/New_York:20220727T100000
DTEND;TZID=America/New_York:20220727T110000
DTSTAMP:20260419T115401
CREATED:20220711T162159Z
LAST-MODIFIED:20220711T162228Z
UID:17492-1658916000-1658919600@www.ceg.org
SUMMARY:FuzeHub's: The Power of R&D Partnerships: Advanced Materials (Virtual)
DESCRIPTION:Across the state\, advanced materials innovations involve ceramics\, chemicals\, glass\, metals\, plastics\, and more\, enabling high-performance products in sectors ranging from electronics and aerospace to medical equipment and consumer products. \nJoin us for the next Power of R&D Partnerships: Advanced Materials to discover how advanced materials innovations are enabling high-performance products in sectors ranging from electronics and aerospace to medical equipment and consumer products throughout New York State. \nJudith Tholl\, Moderator\nPanelists:  Dr. Alan Rae\, Devon Shipp\, John Simmins and John Sinnott \n  \nLearn More & Register Here>>\n  \n 
URL:https://www.ceg.org/event/fuzehubs-the-power-of-rd-partnerships-advanced-materials-virtual/
CATEGORIES:Advanced Electronics & Manufacturing,Manufacturing
END:VEVENT
BEGIN:VEVENT
DTSTART;TZID=America/New_York:20220203T100000
DTEND;TZID=America/New_York:20220203T153000
DTSTAMP:20260419T115401
CREATED:20211221T151049Z
LAST-MODIFIED:20211221T152340Z
UID:16524-1643882400-1643902200@www.ceg.org
SUMMARY:New York Bio/Med Industry Workforce Summit
DESCRIPTION:New York’s bio/med industry employs thousands of workers across the state in fields including medical research\, advanced manufacturing\, bioinformatics\, artificial intelligence\, computer software\, and the development of life-enhancing and life-saving drugs\, devices and treatments. Bolstered by our world-class universities\, our unparalleled physical assets\, and the state’s rich tradition of innovation\, the bio/med industry is driving the future of the state’s economy. \nOur ability to grow this industry sector\, to attract outside investment\, and to position New York State as the choice for the next generation of workers is threatened by vexing workforce challenges. To address these challenges\, MedTech is bringing together industry\, academic and government leaders\, along with workforce problem-solvers\, to tackle this most pressing issue at our New York Bio/Med Industry Workforce Summit. \nThe purpose of the New York Bio/Med Industry Workforce Summit is: to identify the breadth and scope of our industry’s workforce challenges; to bring together stakeholders to share solutions; and to forge meaningful and lasting collaborations aimed at advancing our shared interests. \nPlease note: We will follow all NYS guidelines re: mask wearing and/or vaccination status that are in place at time of this event. \n\n  \nREGISTER HERE>>\n  \n 
URL:https://www.ceg.org/event/new-york-bio-med-industry-workforce-summit/
LOCATION:Renaissance Hotel\, 144 State St.\, Albany\, NY\, 12207\, United States
CATEGORIES:Advanced Electronics & Manufacturing,Biotechnology/Life Sciences,Business Networking,Manufacturing,Workforce/Talent
ATTACH;FMTTYPE=image/jpeg:https://www.ceg.org/wp-content/uploads/2021/12/industry-workforce-summit.jpg
END:VEVENT
BEGIN:VEVENT
DTSTART;TZID=America/New_York:20211214T123000
DTEND;TZID=America/New_York:20211214T133000
DTSTAMP:20260419T115401
CREATED:20211116T135813Z
LAST-MODIFIED:20211116T142509Z
UID:16217-1639485000-1639488600@www.ceg.org
SUMMARY:CEG & Reshoring Institute: What the Pandemic Taught Us: Building a Resilient Manufacturing Business
DESCRIPTION:CEG & Reshoring Institute: What the Pandemic Taught Us: Building a Resilient Manufacturing Business | Dec 14 12:30-1:30 PM \nThe pandemic strained industries around the nation and at the core of these supply chains were disruptions from both domestic and offshore manufacturers. Some were prepared\, but many were unprepared for the many months of varying disruptions to supply chains\, workforce\, price increases\, mandates\, and more. Though we saw New Yorkers step up in many ways to REACT to the ever changing challenges\, there were definitely cracks. So we ask\, how can we do better? \nThe Center for Economic Growth\, in partnership with the The Reshoring Institute conducted in-depth research to better understand the challenges\, best practices and opportunities that we were presented in the last 18 months. This included doing in person interviews with manufacturing companies\, government leaders\, associations\, and regional economic development leaders as well as gathering intelligence from different publications around the state and the nation.      \nPlease join us on December 14th as we host with the Reshoring Institute on a summary of the research\, findings\, and recommendations.  \n  \nREGISTER HERE>>\nZoom link will be provided in your registration confirmation email. \n\n 
URL:https://www.ceg.org/event/ceg-reshoring-institute-what-the-pandemic-taught-us-building-a-resilient-manufacturing-business-12-14/
CATEGORIES:Advanced Electronics & Manufacturing,Manufacturing
ATTACH;FMTTYPE=image/png:https://www.ceg.org/wp-content/uploads/2021/11/Supply-Chain-Siena-Eventbrite-2160x1080-3-e1637071084326.png
END:VEVENT
BEGIN:VEVENT
DTSTART;TZID=America/New_York:20211209T120000
DTEND;TZID=America/New_York:20211209T133000
DTSTAMP:20260419T115401
CREATED:20211116T135205Z
LAST-MODIFIED:20211116T142432Z
UID:16212-1639051200-1639056600@www.ceg.org
SUMMARY:CEG & Siena Research Foundation: Manufacturing Outlooks & Supply Chain Report
DESCRIPTION:CEG Manufacturing Supply Chain Impacts & Future Resiliency Webinars 12/9 & 12/14 \n  \nCEG’s Business Growth Solutions and our partner MEP centers at Central NY TDO\, and Stonybrook’s MTRC conducted a statewide manufacturing supply chain survey and supply chain resiliency study as part of CARES funds received from the National Institute for Standards and Technology (NIST) and the New York Manufacturing Extension Partnership (MEP). \nBelow you will find two webinars that will share the results of each study (registration required): \nCEG & Siena Research Foundation: Manufacturing Outlooks & Supply Chain Report | Dec 9 | 12:00-1:30PM \nManufacturers around the world and domestically have been challenged by the global pandemic. There were disruptions at all stages that led to lost business\, cancelled orders\, closures\, supply chain shortages\, increased costs and more. Understanding the impacts on critical supplies\, effect on business outlook\, workforce loss\, and the critical essential assets is an important step in developing the story to facilitate a roadmap for better resiliency and communicating the needs to our regional and national leaders.  \nThe Center for Economic Growth\, in partnership with Siena Research Institute\, conducted a Supply Chain and Business Outlook survey among New York State manufacturers between July and October of 2021.    \nPlease join us on December 9th as we host with the Siena Research Foundation on the findings of this survey.\n  \nREGISTER HERE>>\nZoom link will be provided in your registration confirmation email. \n\n  \nCEG & Reshoring Institute: What the Pandemic Taught Us: Building a Resilient Manufacturing Business | Dec 14 12:30-1:30 PM \nThe pandemic strained industries around the nation and at the core of these supply chains were disruptions from both domestic and offshore manufacturers. Some were prepared\, but many were unprepared for the many months of varying disruptions to supply chains\, workforce\, price increases\, mandates\, and more. Though we saw New Yorkers step up in many ways to REACT to the ever changing challenges\, there were definitely cracks. So we ask\, how can we do better? \nThe Center for Economic Growth\, in partnership with the The Reshoring Institute conducted in-depth research to better understand the challenges\, best practices and opportunities that we were presented in the last 18 months. This included doing in person interviews with manufacturing companies\, government leaders\, associations\, and regional economic development leaders as well as gathering intelligence from different publications around the state and the nation.      \nPlease join us on December 14th as we host with the Reshoring Institute on a summary of the research\, findings\, and recommendations.  \n  \nCLICK HERE TO VIEW THE DEC 14 WEBINAR EVENT >>\n\n \n  \n\n  \n 
URL:https://www.ceg.org/event/ceg-manufacturing-supply-chain-impacts-future-resiliency-webinars-12-9-12-14/
CATEGORIES:Advanced Electronics & Manufacturing,Manufacturing
ATTACH;FMTTYPE=image/png:https://www.ceg.org/wp-content/uploads/2021/11/Supply-Chain-Siena-Eventbrite-2160x1080-2-e1637070702120.png
END:VEVENT
BEGIN:VEVENT
DTSTART;TZID=America/New_York:20211201T110000
DTEND;TZID=America/New_York:20211201T140000
DTSTAMP:20260419T115401
CREATED:20211112T175500Z
LAST-MODIFIED:20211112T175636Z
UID:16170-1638356400-1638367200@www.ceg.org
SUMMARY:Clean Tech & Advanced Materials Virtual Job Fair
DESCRIPTION:Job Fair connecting New York State jobseekers to companies with available opportunities within the fields of Clean Technology\, Energy Storage\, Battery Manufacturing\, Advanced Materials and more. Entry-mid level\, experienced and management positions are available. Empire State Development’s Division of Science\, Technology & Innovation (NYSTAR)\, NY Ventures\, and NYBEST are proud to support innovative companies across the state provide sustainable energy sources\, expand manufacturing capabilities and ensure a resource efficient future within a thriving New York State economy. \n  \nDate: December 1\, 2021\nTime: 11 AM – 2 PM\nLocation: Remo (Virtual Platform) \nREGISTER HERE>>\n  \n 
URL:https://www.ceg.org/event/clean-tech-advanced-materials-virtual-job-fair/
CATEGORIES:Advanced Electronics & Manufacturing,Clean Energy,Manufacturing
ATTACH;FMTTYPE=image/png:https://www.ceg.org/wp-content/uploads/2021/11/clean-tech-dec-1-e1636739758344.png
END:VEVENT
BEGIN:VEVENT
DTSTART;TZID=America/New_York:20211117T110000
DTEND;TZID=America/New_York:20211117T140000
DTSTAMP:20260419T115401
CREATED:20211103T192331Z
LAST-MODIFIED:20211104T153240Z
UID:16138-1637146800-1637157600@www.ceg.org
SUMMARY:Clean Tech & Advanced Materials Virtual Job Fair
DESCRIPTION:Job Fair connecting New York State jobseekers to companies with available opportunities within the fields of Clean Technology\, Energy Storage\, Battery Manufacturing\, Advanced Materials and more. Entry-mid level\, experienced and management positions are available. Empire State Development’s Division of Science\, Technology & Innovation (NYSTAR)\, NY Ventures\, and NYBEST are proud to support innovative companies across the state provide sustainable energy sources\, expand manufacturing capabilities and ensure a resource efficient future within a thriving New York State economy. \nAvailable Opportunities: Production Operator\, Electrical Engineer\, Quality Engineer\, Electrical Assembler\, Associate Engineer\, Welder\, Laboratory Technician\, Battery Design Engineer\, Project Developer and more!!! Salary range up to $120K DOE (depending on experience) \n  \nLEARN MORE & REGISTER HERE>>\n  \nDate: November 17\, 2021\nTime: 11 AM – 2 PM\nLocation: Remo (Virtual Platform)
URL:https://www.ceg.org/event/clean-tech-advanced-materials-job-fair/
CATEGORIES:Advanced Electronics & Manufacturing,Business Growth Solutions,Clean Energy,Manufacturing,Workforce/Talent
ATTACH;FMTTYPE=image/png:https://www.ceg.org/wp-content/uploads/2021/11/clean-tech-1-e1635967477594.png
END:VEVENT
BEGIN:VEVENT
DTSTART;TZID=America/New_York:20211027T180000
DTEND;TZID=America/New_York:20211027T210000
DTSTAMP:20260419T115401
CREATED:20210907T164553Z
LAST-MODIFIED:20210917T155858Z
UID:15649-1635357600-1635368400@www.ceg.org
SUMMARY:Prototyping 201: Furniture Design Using Fusion 360
DESCRIPTION:Basic CNC Furniture Design & Joinery and Fabrication: An Introduction to the Fusion360 Design and Manufacturing Workspaces\n\n  \nThis 200 level course is designed to expand upon participants’ existing knowledge of working with Fusion360 by introducing project based lessons leveraging design methodologies for CNC router joining designs. Students will be introduced to joiner concepts\, creating 3D designs and assemblies from drawings\, and gaining familiarity with 2D contouring setup’s in manufacturing workspace. \nThe course will use Autodesk Fusion360 as the platform for the Computer Aided Design (CAD) tool and the Computer Aided Manufacturing (CAM) tool. Prior experience with Autodesk Fusion 360 is required for this course. We offer a 100-level course that serves as a pre-requisite for those interested. \nEach attendee will need to bring their own laptop and create an AutoDesk user account. Attendees can select any version of Fusion360 for trial basis.  The class instructor recommends the non-commercial 1-yr license.  If the attendee is a student or educator with an EDU email address then they should select 3-year license option. \nThe software is available for download here. We recommend attendees show up 30 minutes early if they need assistance in creating an account and downloading software. Participants must be 18 or older. \nRegistration Fee: COG Member $50 | Non-Member $100 *Discounts will be automatically applied to current COG members \nThe class will be held by Michael Lobsinger\, Center Director of the Center for Economic Growth (CEG). As the Center Director\, Michael is responsible for the day to day operations of CEG’s Business Growth Solutions and Manufacturing Extension Partnership programs. Michael has lead R&D and NPD teams at Boeing\, Shell Global\, and Quatic Apparel\, and has mentored several product-based technology companies. Michael has a BS in Mechanical Engineering from North Dakota State University and an MBA from Rensselear Polytechnic Institute. \nTo keep our classes affordable\, we book our instructors and purchase materials in advance. We depend on advanced registration. Classes without sufficient advanced enrollment may be canceled. Advanced registration closes 3 days before the class date; after this date\, a $20 late registration fee will be applied. Cancellations must be made one week prior to the class in order to be eligible for a refund unless due to illness. \nPlease note\, if you are showing signs of COVID related symptoms and cannot attend your class\, you have the option to request a full refund up to 1 week before your class begins. After this point\, students experiencing symptoms may request a full class credit up to the morning of the class.  \nCOVID-19 Safety: TVCOG is committed to ensuring the safety of its members\, instructors and guests and as such\, has set certain COVID-19 safety precautions in place which follow NYS and CDC guidance. You will be asked to complete a COVID waiver\, sign a COVID Safety Pledge and provide contact tracing information during the registration process. Everyone is expected to maintain social distance (6?) from individuals outside of their own group while in the facility; this class size has been limited to 2 participants in order to ensure adequate social distancing. All shared tools/equipment will be thoroughly cleaned and sanitized before and after each class. Masks are required  for all unvaccinated individuals and optional for fully vaccinated individuals in the facility. Proof of vaccination is required. Eligible proofs of vaccination are: \n\n– Physical vaccination card or picture of card.\n– Vaccine passport (Excelsior Pass.) \n\n \n \n\nWhen\nOctober 27th\, 2021 6:00 PM through  9:00 PM\n \n\n\nLocation\n\nTech Valley Center of Gravity\n30 Third Street\nTroy\, NY 12180\nUnited States\n\n \n\n\nContact\n\nPhone: 518-244-3544\nEmail: facilities@tvcog.net\n\n \n\n\nClass Fee(s)\n\n\n\n\nOn-Time Registration Fee  $279.00\n\n\n\n  \n\nREGISTER HERE>>\n\n  \n 
URL:https://www.ceg.org/event/prototyping-201-furniture-design-using-fusion-360/
CATEGORIES:Advanced Electronics & Manufacturing,Business Growth Solutions,Education/Training,Manufacturing
ATTACH;FMTTYPE=image/png:https://www.ceg.org/wp-content/uploads/2021/08/tvcog-logo.png
END:VEVENT
BEGIN:VEVENT
DTSTART;TZID=America/New_York:20210925T103000
DTEND;TZID=America/New_York:20210925T143000
DTSTAMP:20260419T115401
CREATED:20210907T165056Z
LAST-MODIFIED:20210917T155749Z
UID:15655-1632565800-1632580200@www.ceg.org
SUMMARY:Prototyping 101 and 102: Intro to Fusion 360
DESCRIPTION:This combined class will cover both Course 1 and Course 2 of our Intro to Fusion 360 class.\n\nThis four-hour course\, based on content from the Autodesk Fusion Mastery Course\, will introduce you to the basics Fusion 360 environment and 3D modeling.  \nAttendees will start with establishing an overall familiarity of the User Interface (UI)\, including Toolbars\, Workspace\, etc.  In order to efficiently create models in Computer Aided Design (CAD) programs\, users need to establish an understanding of the workspace environment\, terminology\, and best practices\, as well as the nuances of the chosen CAD platform. \nAttendees will then focus on 3D modeling and design using the application of workspace and tools to create 3D models and drawings with examples and discussion around the use of the CAD platform. \nEach attendee will need to bring their own laptop and create an AutoDesk user account. Attendees can select any version of Fusion360 for trial basis.  The class instructor recommends the non-commercial 1-yr license.  If the attendee is a student or educator with an EDU email address then they should select 3-year license option. \nThe software is available for download here. We recommend attendees show up 30 minutes early if they need assistance in creating an account and downloading software. Participants must be 18 or older. \nRegistration Fee: COG Member $50 | Non-Member $100 *Discounts will be automatically applied to current COG members \nThe class will be held by Michael Lobsinger\, Center Director of the Center for Economic Growth (CEG). As the Center Director\, Michael is responsible for the day to day operations of CEG’s Business Growth Solutions and Manufacturing Extension Partnership programs. Michael has lead R&D and NPD teams at Boeing\, Shell Global\, and Quatic Apparel\, and has mentored several product-based technology companies. Michael has a BS in Mechanical Engineering from North Dakota State University and an MBA from Rensselear Polytechnic Institute. \nTo keep our classes affordable\, we book our instructors and purchase materials in advance. We depend on advanced registration. Classes without sufficient advanced enrollment may be canceled. Advanced registration closes 3 days before the class date; after this date\, a $20 late registration fee will be applied. Cancellations must be made one week prior to the class in order to be eligible for a refund unless due to illness. \nPlease note\, if you are showing signs of COVID related symptoms and cannot attend your class\, you have the option to request a full refund up to 1 week before your class begins. After this point\, students experiencing symptoms may request a full class credit up to the morning of the class.  \nCOVID-19 Safety: TVCOG is committed to ensuring the safety of its members\, instructors and guests and as such\, has set certain COVID-19 safety precautions in place which follow NYS and CDC guidance. You will be asked to complete a COVID waiver\, sign a COVID Safety Pledge and provide contact tracing information during the registration process. Everyone is expected to maintain social distance (6?) from individuals outside of their own group while in the facility; this class size has been limited to 2 participants in order to ensure adequate social distancing. All shared tools/equipment will be thoroughly cleaned and sanitized before and after each class. Masks are required  for all unvaccinated individuals and optional for fully vaccinated individuals in the facility. Proof of vaccination is required. Eligible proofs of vaccination are: \n\n– Physical vaccination card or picture of card.\n– Vaccine passport (Excelsior Pass.) \n\n\n \n\n\nWhen\nSeptember 25th\, 2021 10:30 AM through 2:30 PM\n \n\n\nLocation\n\nTech Valley Center of Gravity\n30 Third Street\nTroy\, NY 12180\nUnited States\n\n \n\n\nContact\n\nPhone: 518-244-3544\nEmail: facilities@tvcog.net\n\n \n\n\nClass Fee(s)\n\n\n\n\nOn-Time Registration Fee\n$279.00\n\n\n\n\n  \nREGISTER HERE>>\n\n  \n\n\n\n\n 
URL:https://www.ceg.org/event/prototyping-101-and-102-intro-to-fusion-360-2/
CATEGORIES:Advanced Electronics & Manufacturing,Business Growth Solutions,Education/Training,Manufacturing
ATTACH;FMTTYPE=image/png:https://www.ceg.org/wp-content/uploads/2021/08/tvcog-logo.png
END:VEVENT
BEGIN:VEVENT
DTSTART;TZID=America/New_York:20210909T113000
DTEND;TZID=America/New_York:20210909T123000
DTSTAMP:20260419T115401
CREATED:20210830T142257Z
LAST-MODIFIED:20210830T142257Z
UID:15617-1631187000-1631190600@www.ceg.org
SUMMARY:NY CREATES Emerging Technologies Seminar: Innovations to Enable Future Logic Scaling
DESCRIPTION:Presented by: Dr. Sri Samavedam\nSenior Vice President\, CMOS Technologies\, imec\, Belgium \n**Zoom Pre-Registration required by September 8\, available here \nAbstract:  Logic scaling over the last 50 years has been enabled by patterning innovations\, mobility boosters and new device architectures. In the recent nodes\, transistor density continues to follow Moore’s law\, but the node to node performance improvements have slowed down. There are many new process technologies being researched which will continue to enable logic density and system performance in the coming decade. Density scaling will be enabled by advances in EUV multi-patterning and single-print high NA EUV. New device architectures like forksheets\, CFETs and 2D atomic channel devices are promising for continued logic and SRAM scaling. Scaling boosters like buried power rail\, semi-damascene integration and new standard cell routing will also be needed. There are several 2.5D and 3D integration options for system scaling with SoC partitioning depending on the connectivity density\, form factor\, yield\, maturity and cost considerations. Finally\, a methodology to estimate the environmental impact of technology scaling choices will be shared. \nBiography:  Dr. Sri Samavedam is SVP of CMOS Technologies at imec leading research programs in logic\, memory\, photonics and 3D system integration. Prior to that\, he was Senior Director of Technology Development at Globalfoundries in Malta\, NY\, where he led qualification of 14nm FinFET technology and derivatives into volume production and development of 7nm CMOS technology. He began his research career at Motorola in Austin\, TX\, working on strained silicon\, metal gates\, high k dielectrics and fully-depleted SOI devices. He has over 75 publications and 40 patents. He holds a Ph.D. in Materials Science and Engineering from MIT\, Masters in Materials Engineering from Purdue University and B. Tech from IIT\, Madras.
URL:https://www.ceg.org/event/ny-creates-emerging-technologies-seminar-innovations-to-enable-future-logic-scaling/
CATEGORIES:Advanced Electronics & Manufacturing
END:VEVENT
END:VCALENDAR