BEGIN:VCALENDAR
VERSION:2.0
PRODID:-//Center for Economic Growth - ECPv6.15.18//NONSGML v1.0//EN
CALSCALE:GREGORIAN
METHOD:PUBLISH
X-ORIGINAL-URL:https://www.ceg.org
X-WR-CALDESC:Events for Center for Economic Growth
REFRESH-INTERVAL;VALUE=DURATION:PT1H
X-Robots-Tag:noindex
X-PUBLISHED-TTL:PT1H
BEGIN:VTIMEZONE
TZID:America/New_York
BEGIN:DAYLIGHT
TZOFFSETFROM:-0500
TZOFFSETTO:-0400
TZNAME:EDT
DTSTART:20240310T070000
END:DAYLIGHT
BEGIN:STANDARD
TZOFFSETFROM:-0400
TZOFFSETTO:-0500
TZNAME:EST
DTSTART:20241103T060000
END:STANDARD
BEGIN:DAYLIGHT
TZOFFSETFROM:-0500
TZOFFSETTO:-0400
TZNAME:EDT
DTSTART:20250309T070000
END:DAYLIGHT
BEGIN:STANDARD
TZOFFSETFROM:-0400
TZOFFSETTO:-0500
TZNAME:EST
DTSTART:20251102T060000
END:STANDARD
BEGIN:DAYLIGHT
TZOFFSETFROM:-0500
TZOFFSETTO:-0400
TZNAME:EDT
DTSTART:20260308T070000
END:DAYLIGHT
BEGIN:STANDARD
TZOFFSETFROM:-0400
TZOFFSETTO:-0500
TZNAME:EST
DTSTART:20261101T060000
END:STANDARD
END:VTIMEZONE
BEGIN:VEVENT
DTSTART;TZID=America/New_York:20251015T170000
DTEND;TZID=America/New_York:20251015T190000
DTSTAMP:20260419T224628
CREATED:20250919T140952Z
LAST-MODIFIED:20250919T140952Z
UID:43358-1760547600-1760554800@www.ceg.org
SUMMARY:Bots & Brews: Manufacturer's Only Mixer
DESCRIPTION:October is Manufacturing Month\, and what better way to celebrate than connecting with your peers over a cold brew?\nJoin us at The Parting Glass for a manufacturer only Bots & Brews on Wednesday\, October 15 from 5:00-7:00 p.m. \nThis is your chance to talk shop\, share ideas\, and build connections with fellow manufacturers of all sizes and specialties. \nRW Earl Automation Solutions will be showcasing an automated welding demo using SmoothTool and Universal Robots. \nSmoothTool is the ultimate welding automation solution\, designed to streamline tasks and boost efficiency. Developed for Universal Robots\, it simplifies complex welding processes\, allowing you to focus on delivering precise\, high-quality welds. Its seamless integration empowers welders with advanced features\, making the welding experience intuitive and hassle-free. \nEnjoy a free drink ticket\, cash bar and light apps\, all while networking with industry peers. \n*** This event is open to Manufacturers and program sponsors ONLY. During registration\, you will be required to confirm your status as a Manufacturer. *** \nRegister to attend
URL:https://www.ceg.org/event/bots-brews-manufacturers-only-mixer/
LOCATION:The Parting Glass\, 40-42 Lake Ave\, Saratoga Springs\, NY\, 12866
CATEGORIES:Advanced Electronics & Manufacturing,Manufacturing
ATTACH;FMTTYPE=image/png:https://www.ceg.org/wp-content/uploads/2025/09/Bots-Brews-EB-Oct-20251-e1758290944899.png
END:VEVENT
END:VCALENDAR